BEGIN:VCALENDAR
VERSION:2.0
PRODID:-//Jedriličarski savez Srbije (JSS) - ECPv6.0.13.1//NONSGML v1.0//EN
CALSCALE:GREGORIAN
METHOD:PUBLISH
X-WR-CALNAME:Jedriličarski savez Srbije (JSS)
X-ORIGINAL-URL:https://sailing.rs
X-WR-CALDESC:Events for Jedriličarski savez Srbije (JSS)
REFRESH-INTERVAL;VALUE=DURATION:PT1H
X-Robots-Tag:noindex
X-PUBLISHED-TTL:PT1H
BEGIN:VTIMEZONE
TZID:UTC
BEGIN:STANDARD
TZOFFSETFROM:+0000
TZOFFSETTO:+0000
TZNAME:UTC
DTSTART:20230101T000000
END:STANDARD
END:VTIMEZONE
BEGIN:VEVENT
DTSTART;VALUE=DATE:20230825
DTEND;VALUE=DATE:20230828
DTSTAMP:20260422T021953
CREATED:20230529T102006Z
LAST-MODIFIED:20230529T153622Z
UID:4654-1692921600-1693180799@sailing.rs
SUMMARY:48. Kup Đerdapa
DESCRIPTION:O regatiPrvenstvo Vojvodine je tradicionalno takmičenje koje okuplja sportiste svih uzrasnih kategorija. Regata se organizuje u skladu sa kalendarom Jedriličarskog saveza Vojvodine\, a otvorena je za klase:• Optimist (Generalno\, Devojčice\, do 12 godina)• ILCA 4\, ILCA 6\, ILCA 7• Finn• 470Program regate• Četvrtak: Dolazak takmičara i prijem uz piće dobrodošlice.• Petak: Registracija učesnika              Svečano otvaranje regate              Start prve trke u 12:00h• Subota: Trke prema planu i vremenskim uslovima.• Nedelja: Finalne trke i završna ceremonija\, proglašenje pobednika i dodela medalja.Uslovi učešća• Prijave: Takmičari se mogu prijaviti putem online formulara: https://forms.gle/fMrq49ZUdLg2m8ZMA .• Takmičari moraju posedovati važeću takmičarsku knjižicu Raspis za regatu
URL:https://sailing.rs/regata/48-kup-derdapa/
LOCATION:Donji Milanovac\, Donji Milanovac\, Serbia
CATEGORIES:470,Finn,ILCA4,ILCA6,ILCA7,Optimist
ORGANIZER;CN="JK%20AJK":MAILTO:https://www.ajk-beograd.com/
END:VEVENT
END:VCALENDAR